BEGIN:VCALENDAR
VERSION:2.0
PRODID:-//ChamberMaster//Event Calendar 2.0//EN
METHOD:PUBLISH
X-PUBLISHED-TTL:P3D
REFRESH-INTERVAL:P3D
CALSCALE:GREGORIAN
BEGIN:VEVENT
DTSTART:20230808T210000Z
DTEND:20230808T220000Z
X-MICROSOFT-CDO-ALLDAYEVENT:FALSE
SUMMARY:VFW Auxiliary 2039 Monthly Meeting
DESCRIPTION:Monthly auxiliary meeting
X-ALT-DESC;FMTTYPE=text/html:Monthly auxiliary meeting
LOCATION:Veteran's Memorial Hall / Skyway & Elliott
UID:e.2970.36920
SEQUENCE:3
DTSTAMP:20260423T161207Z
URL:https://business.paradisechamber.com/events/details/vfw-auxiliary-2039-monthly-meeting-08-08-2023-36920
END:VEVENT

END:VCALENDAR
