BEGIN:VCALENDAR
VERSION:2.0
PRODID:-//ChamberMaster//Event Calendar 2.0//EN
METHOD:PUBLISH
X-PUBLISHED-TTL:P3D
REFRESH-INTERVAL:P3D
CALSCALE:GREGORIAN
BEGIN:VEVENT
DTSTART:20240819T140000Z
DTEND:20240820T003000Z
X-MICROSOFT-CDO-ALLDAYEVENT:FALSE
SUMMARY:Utility Line Clearance Arborist Training
DESCRIPTION:Free Class & Certification Are you looking for a great career with great pay? Participants who complete this training earn $24/hour and can progress to $46/hour after just 18 months. This 200-hour\, Utility Line Clearance Arborist Training course will introduce you to best practices in Utility Vegetation Management This course is designed to enhance the understanding and application of safety\, integrated vegetation management\, tree identification\, tree biology\, proper pruning techniques\, safe equipment operations\, tree climbing techniques and customer service. Trainees will receive certificates in: Flagger OSHA 10 AHA First Aid & CPR. Hands on training includes: Utility Arborist ANSIZ133 Safety Standards 3-Way Safety Communications Utility Best Management Practice (BMP) Tree Identification Climbing and Limb Walking Bucket Truck Operations Chainsaw and Chipper Operations The five-week course runs Monday-Thursday\, from August 19th-September 20th\, 2024\, 7:00am-5:00pm. APPLY TODAY to be added to our Waitlist!
X-ALT-DESC;FMTTYPE=text/html:Free Class &amp\; Certification Are you looking for a great career with great pay? Participants who complete this training earn $24/hour and can progress to $46/hour after just 18 months. This 200-hour\, Utility Line Clearance Arborist Training course will introduce you to best practices in Utility Vegetation Management This course is designed to enhance the understanding and application of safety\, integrated vegetation management\, tree identification\, tree biology\, proper pruning techniques\, safe equipment operations\, tree climbing techniques and customer service. Trainees will receive certificates in: Flagger OSHA 10 AHA First Aid &amp\; CPR. Hands on training includes: Utility Arborist ANSIZ133 Safety Standards 3-Way Safety Communications Utility Best Management Practice (BMP) Tree Identification Climbing and Limb Walking Bucket Truck Operations Chainsaw and Chipper Operations The five-week course runs Monday-Thursday\, from August 19th-September 20th\, 2024\, 7:00am-5:00pm. APPLY TODAY to be added to our Waitlist!
LOCATION:The Training Place - Butte College
UID:e.2970.44507
SEQUENCE:3
DTSTAMP:20260421T154746Z
URL:https://business.paradisechamber.com/events/details/utility-line-clearance-arborist-training-44507
END:VEVENT

END:VCALENDAR
