BEGIN:VCALENDAR
VERSION:2.0
PRODID:-//ChamberMaster//Event Calendar 2.0//EN
METHOD:PUBLISH
X-PUBLISHED-TTL:P3D
REFRESH-INTERVAL:P3D
CALSCALE:GREGORIAN
BEGIN:VEVENT
DTSTART:20240723T160000Z
DTEND:20240723T180000Z
X-MICROSOFT-CDO-ALLDAYEVENT:FALSE
SUMMARY:Using AI for Your Business Marketing
DESCRIPTION:Artificial Intelligence (AI) has become increasingly beneficial to businesses and our communities. However\, very few people understand how to use AI to help them in their marketing and other business strategies. We will take a deep dive into using AI to develop marketing strategies\, and contents\, and will take a step-by-step approach to developing an AI generated marketing strategy for your business.
X-ALT-DESC;FMTTYPE=text/html:Artificial Intelligence (AI) has become increasingly beneficial to businesses and our communities. However\, very few people understand how to use AI to help them in their marketing and other business strategies. We will take a deep dive into using AI to develop marketing strategies\, and contents\, and will take a step-by-step approach to developing an AI generated marketing strategy for your business.
LOCATION:Paradise Ridge Chamber of Commerce
UID:e.2970.45075
SEQUENCE:3
DTSTAMP:20260421T141920Z
URL:https://business.paradisechamber.com/events/details/using-ai-for-your-business-marketing-07-23-2024-45075
END:VEVENT

END:VCALENDAR
