BEGIN:VCALENDAR
VERSION:2.0
PRODID:-//ChamberMaster//Event Calendar 2.0//EN
METHOD:PUBLISH
X-PUBLISHED-TTL:P3D
REFRESH-INTERVAL:P3D
CALSCALE:GREGORIAN
BEGIN:VEVENT
DTSTART:20240808T150000Z
DTEND:20240809T000000Z
X-MICROSOFT-CDO-ALLDAYEVENT:FALSE
SUMMARY:Upskill Academy: Process Electrical Training - 4 Part Series
DESCRIPTION:32 Hours\, 8:00 AM-5:00 PM Dates: 8/6\, 8/8\, 8/13\, 8/15 Training will be delivered by a certified Amatrol Systems Advanced Manufacturing instructor designed to provide a balance of theory and practical application applying to a broad range of industries. Electrical Systems Theory Motor Controls Sensors and Speed Controls PLC/VFD Data and Wiring Systems Power Distribution
X-ALT-DESC;FMTTYPE=text/html:32 Hours\, 8:00 AM-5:00 PM Dates: 8/6\, 8/8\, 8/13\, 8/15 Training will be delivered by a certified Amatrol Systems Advanced Manufacturing instructor designed to provide a balance of theory and practical application applying to a broad range of industries. Electrical Systems Theory Motor Controls Sensors and Speed Controls PLC/VFD Data and Wiring Systems Power Distribution
LOCATION:The Training Place - Butte College
UID:e.2970.44587
SEQUENCE:3
DTSTAMP:20260421T154801Z
URL:https://business.paradisechamber.com/events/details/upskill-academy-process-electrical-training-4-part-series-08-08-2024-44587
END:VEVENT

END:VCALENDAR
