BEGIN:VCALENDAR
VERSION:2.0
PRODID:-//ChamberMaster//Event Calendar 2.0//EN
METHOD:PUBLISH
X-PUBLISHED-TTL:P3D
REFRESH-INTERVAL:P3D
CALSCALE:GREGORIAN
BEGIN:VEVENT
DTSTART:20241214T020000Z
DTEND:20241214T043000Z
X-MICROSOFT-CDO-ALLDAYEVENT:FALSE
SUMMARY:Ugly Sweater Dinner Dance
DESCRIPTION:Wear your ugly sweater and join us for our monthly dinner dance.... Good food\, fellowship\, inspiration\, and dance to live music by Good Country...
X-ALT-DESC;FMTTYPE=text/html:Wear your ugly sweater and join us for our monthly dinner dance.... Good food\, fellowship\, inspiration\, and dance to live music by Good Country...
LOCATION:First Christian Church (intersection of Pearson and Pentz Rds)
UID:e.2970.46727
SEQUENCE:3
DTSTAMP:20260426T003022Z
URL:https://business.paradisechamber.com/events/details/ugly-sweater-dinner-dance-46727
END:VEVENT

END:VCALENDAR
