BEGIN:VCALENDAR
VERSION:2.0
PRODID:-//ChamberMaster//Event Calendar 2.0//EN
METHOD:PUBLISH
X-PUBLISHED-TTL:P3D
REFRESH-INTERVAL:P3D
CALSCALE:GREGORIAN
BEGIN:VEVENT
DTSTART:20240802T003000Z
DTEND:20240802T030000Z
X-MICROSOFT-CDO-ALLDAYEVENT:FALSE
SUMMARY:Trivia Night at Nics
DESCRIPTION:Family Friendly and Free Entry Trivia. Teams and Single Contestants Welcome! Prizes! Arrive at 5:30 to secure your spot. Food specials and happy hour all evening.
X-ALT-DESC;FMTTYPE=text/html:Family Friendly and Free Entry Trivia. Teams and Single Contestants Welcome! Prizes! Arrive at 5:30 to secure your spot. Food specials and happy hour all evening.
LOCATION:Nics Deli 6256 Skyway
UID:e.2970.42804
SEQUENCE:3
DTSTAMP:20260421T155353Z
URL:https://business.paradisechamber.com/events/details/trivia-night-at-nics-08-01-2024-42804
END:VEVENT

END:VCALENDAR
