BEGIN:VCALENDAR
VERSION:2.0
PRODID:-//ChamberMaster//Event Calendar 2.0//EN
METHOD:PUBLISH
X-PUBLISHED-TTL:P3D
REFRESH-INTERVAL:P3D
CALSCALE:GREGORIAN
BEGIN:VEVENT
DTSTART:20220923T023000Z
DTEND:20220923T043000Z
X-MICROSOFT-CDO-ALLDAYEVENT:FALSE
SUMMARY:TOTR presents Dracula (A Musical with Bite)
DESCRIPTION:DRACULA (A Musical with Bite) \n\nBy Bram Stoker\, Adapted by Amber Miller\n\nA melodic tale of Bram Stoker's Classic\, Dracula will draw you into its arms\, and the siren sounds of this gothic jukebox musical will lure you into the dark nights of Victorian London and the menacing mists of Transylvania. A new original world premiere musical retelling of the classic horror story that started a worldwide love affair with the undead.
X-ALT-DESC;FMTTYPE=text/html:<div class="font_8" style="line-height: normal\; text-align: center\;"><em><span style="font-size:22px\;"><span style="font-family:tahoma\;"><strong><span style="color:#4B0082\;">DRACULA (A Musical with Bite)&nbsp\;</span></strong></span></span></em><br />\n<span style="font-size:11.0pt\;">By Bram Stoker\, Adapted by Amber Miller</span><br />\n<span style="font-size:11.0pt\;">A melodic tale of Bram Stoker&rsquo\;s Classic\, Dracula will draw you into its arms\, and the siren sounds of this gothic jukebox musical will lure you into the dark nights of Victorian London and the menacing mists of Transylvania. A new original world premiere musical retelling of the classic horror story that started a worldwide love affair with the undead. </span><br />\n&nbsp\;</div>\n
LOCATION:Theatre on the Ridge 3735 Neal Rd ~ Paradise
UID:e.2970.35011
SEQUENCE:3
DTSTAMP:20260423T105227Z
URL:https://business.paradisechamber.com/events/details/totr-presents-dracula-a-musical-with-bite-09-22-2022-35011
END:VEVENT

END:VCALENDAR
