BEGIN:VCALENDAR
VERSION:2.0
PRODID:-//ChamberMaster//Event Calendar 2.0//EN
METHOD:PUBLISH
X-PUBLISHED-TTL:P3D
REFRESH-INTERVAL:P3D
CALSCALE:GREGORIAN
BEGIN:VEVENT
DTSTART:20230801T160000Z
DTEND:20230801T180000Z
X-MICROSOFT-CDO-ALLDAYEVENT:FALSE
SUMMARY:The Five Coaching Conversations 4 sessions
DESCRIPTION:Four live virtual trainings\, on the following days:\n\nSession 1: July 11\, 9-11 am (Intro and Personal Coaching Preferences)\n\nSession 2: July 18\, 9-11 am (Explain and Explore)\n\nSession 3: July 25\, 9-11 am (Encourage and Empower)\n\nSession 4: Aug. 1\, 9-11 am (Elevate and Action Planning)\n\n\n\nA research-based model for maximizing people's performance and potential. This interactive and award-winning leadership development program has helped leaders across the globe be as effective as possible and get the best results out of their people. Based on the book of the same name and facilitated by one of the authors\, The Five Coaching Conversations program leverages effective and practical leadership tools that are designed to: Assess and improve leadership coaching ability Enhance virtual leadership and communication Maximize individual and team performance Set up new employees for success Help others navigate ambiguity\, indecision and uncertainty Keep others engaged and motivated Delegate effectively Retain and develop key talent
X-ALT-DESC;FMTTYPE=text/html:Four live virtual trainings\, on the following days:<br />\nSession 1: July 11\, 9-11 am (Intro and Personal Coaching Preferences)<br />\nSession 2: July 18\, 9-11 am (Explain and Explore)<br />\nSession 3: July 25\, 9-11 am (Encourage and Empower)<br />\nSession 4: Aug. 1\, 9-11 am (Elevate and Action Planning)<br />\n<br />\nA research-based model for maximizing people&rsquo\;s performance and potential. This interactive and award-winning leadership development program has helped leaders across the globe be as effective as possible and get the best results out of their people. Based on the book of the same name and facilitated by one of the authors\, The Five Coaching Conversations program leverages effective and practical leadership tools that are designed to: Assess and improve leadership coaching ability Enhance virtual leadership and communication Maximize individual and team performance Set up new employees for success Help others navigate ambiguity\, indecision and uncertainty Keep others engaged and motivated Delegate effectively Retain and develop key talent
LOCATION:This will be a live virtual training.
UID:e.2970.41144
SEQUENCE:3
DTSTAMP:20260423T145408Z
URL:https://business.paradisechamber.com/events/details/the-five-coaching-conversations-4-sessions-08-01-2023-41144
END:VEVENT

END:VCALENDAR
