BEGIN:VCALENDAR
VERSION:2.0
PRODID:-//ChamberMaster//Event Calendar 2.0//EN
METHOD:PUBLISH
X-PUBLISHED-TTL:P3D
REFRESH-INTERVAL:P3D
CALSCALE:GREGORIAN
BEGIN:VEVENT
DTSTART:20221020T160000Z
DTEND:20221020T180000Z
X-MICROSOFT-CDO-ALLDAYEVENT:FALSE
SUMMARY:The Basics of Bookkeeping
DESCRIPTION:Learn basic concepts for setting up your bookkeeping and develop an understanding of financial statements to better manage your business. Learn and understand common terms used in bookkeeping so you can converse confidently with lenders and financial advisors. Learn key concepts for good record keeping for your business.
X-ALT-DESC;FMTTYPE=text/html:Learn basic concepts for setting up your bookkeeping and develop an understanding of financial statements to better manage your business. Learn and understand common terms used in bookkeeping so you can converse confidently with lenders and financial advisors. Learn key concepts for good record keeping for your business.
LOCATION:Paradise Ridge Chamber of Commerce Conference Room Enter around the back of the building\, downhill side
UID:e.2970.36755
SEQUENCE:3
DTSTAMP:20260420T200526Z
URL:https://business.paradisechamber.com/events/details/the-basics-of-bookkeeping-10-20-2022-36755
END:VEVENT

END:VCALENDAR
