BEGIN:VCALENDAR
VERSION:2.0
PRODID:-//ChamberMaster//Event Calendar 2.0//EN
METHOD:PUBLISH
X-PUBLISHED-TTL:P3D
REFRESH-INTERVAL:P3D
CALSCALE:GREGORIAN
BEGIN:VEVENT
DTSTART:20230803T143000Z
DTEND:20230803T153000Z
X-MICROSOFT-CDO-ALLDAYEVENT:FALSE
SUMMARY:Talk and Walk Sol Circle
DESCRIPTION:Sol Circles are a topic-based safe\, non-judgmental place to share. Together\, we will discover ways to notice and recognize our habits and patterns. By doing so\, we learn from them and develop healthy tools for transforming them into patterns that cultivate resilience.
X-ALT-DESC;FMTTYPE=text/html:Sol Circles are a topic-based safe\, non-judgmental place to share. Together\, we will discover ways to notice and recognize our habits and patterns. By doing so\, we learn from them and develop healthy tools for transforming them into patterns that cultivate resilience.
LOCATION:Paradise Memorial Trail 5570 Black Olive Dr.\, Paradise\, CA
UID:e.2970.40221
SEQUENCE:3
DTSTAMP:20260423T143829Z
URL:https://business.paradisechamber.com/events/details/talk-and-walk-sol-circle-08-03-2023-40221
END:VEVENT

END:VCALENDAR
