BEGIN:VCALENDAR
VERSION:2.0
PRODID:-//ChamberMaster//Event Calendar 2.0//EN
METHOD:PUBLISH
X-PUBLISHED-TTL:P3D
REFRESH-INTERVAL:P3D
CALSCALE:GREGORIAN
BEGIN:VEVENT
DTSTART:20240814T153000Z
DTEND:20240814T173000Z
X-MICROSOFT-CDO-ALLDAYEVENT:FALSE
SUMMARY:Step-By-Step Guide on How to Buy or Sell a Business
DESCRIPTION:Buying or selling a business can be overwhelming and costly if you do not plan ahead. Do you have an Exit Strategy or plan in place to sell your business in the near future\, or 1 or 2 years? Have you considered buying a business instead of starting one? This workshop is for business owners looking to sell their businesses as well as people interested in purchasing businesses instead of starting their own. We will guide you through a checklist of requirements for successfully buying or selling a business. Topics will include: How to value your business\, the due diligence process\, structuring the deal\, good and bad timing\, what not to do\, loan requirements and options\, owner carry\, and more.
X-ALT-DESC;FMTTYPE=text/html:Buying or selling a business can be overwhelming and costly if you do not plan ahead. Do you have an Exit Strategy or plan in place to sell your business in the near future\, or 1 or 2 years? Have you considered buying a business instead of starting one? This workshop is for business owners looking to sell their businesses as well as people interested in purchasing businesses instead of starting their own. We will guide you through a checklist of requirements for successfully buying or selling a business. Topics will include: How to value your business\, the due diligence process\, structuring the deal\, good and bad timing\, what not to do\, loan requirements and options\, owner carry\, and more.
LOCATION:Butte College SBDC
UID:e.2970.45078
SEQUENCE:3
DTSTAMP:20260421T155735Z
URL:https://business.paradisechamber.com/events/details/step-by-step-guide-on-how-to-buy-or-sell-a-business-08-14-2024-45078
END:VEVENT

END:VCALENDAR
