BEGIN:VCALENDAR
VERSION:2.0
PRODID:-//ChamberMaster//Event Calendar 2.0//EN
METHOD:PUBLISH
X-PUBLISHED-TTL:P3D
REFRESH-INTERVAL:P3D
CALSCALE:GREGORIAN
BEGIN:VEVENT
DTSTART;VALUE=DATE:20230810
DTEND;VALUE=DATE:20230811
TRANSP:TRANSPARENT
X-MICROSOFT-CDO-ALLDAYEVENT:TRUE
SUMMARY:ServSafe Food Safety Training and Certification
DESCRIPTION:ServSafe Food Safety Training and Certification (Chico) California Uniform Retail Food Facility Law requires re-certification of competence in Food Safety and Sanitation every 5 years. Passing the ServSafe  exam is necessary to renew your certification. Training includes National Restaurant Association ServSafe  Exam\, Essentials book\, Answer Sheet and Certificate. This training is recognized by the California Health Department and fulfills the State of California certification obligations. Learn the importance of food safety practices and how to implement them. The trainer is State certified. Participants must register and purchase books 3 weeks before training\, to allow for book delivery and self-study. Seating is limited. Prepayment reserves your seat. Date: Thursday\, August 10th\, 2023 Time: 9:00am - 5:00pm Location: Butte College SBDC\, 2480 Notre Dame Blvd.\, Chico Cost: $120 per person (includes book). $80 per person (book not included) Credit Card payment only Register Here: https://www.buttecollegesbdc.com/events/
X-ALT-DESC;FMTTYPE=text/html:ServSafe Food Safety Training and Certification (Chico) California Uniform Retail Food Facility Law requires re-certification of competence in Food Safety and Sanitation every 5 years. Passing the ServSafe&reg\; exam is necessary to renew your certification. Training includes National Restaurant Association ServSafe&reg\; Exam\, Essentials book\, Answer Sheet and Certificate. This training is recognized by the California Health Department and fulfills the State of California certification obligations. Learn the importance of food safety practices and how to implement them. The trainer is State certified. Participants must register and purchase books 3 weeks before training\, to allow for book delivery and self-study. Seating is limited. Prepayment reserves your seat. Date: Thursday\, August 10th\, 2023 Time: 9:00am - 5:00pm Location: Butte College SBDC\, 2480 Notre Dame Blvd.\, Chico Cost: $120 per person (includes book). $80 per person (book not included) Credit Card payment only Register Here: https://www.buttecollegesbdc.com/events/
LOCATION:Butte College SBDC
UID:e.2970.41479
SEQUENCE:3
DTSTAMP:20260423T143913Z
URL:https://business.paradisechamber.com/events/details/servsafe-food-safety-training-and-certification-08-10-2023-41479
END:VEVENT

END:VCALENDAR
