BEGIN:VCALENDAR
VERSION:2.0
PRODID:-//ChamberMaster//Event Calendar 2.0//EN
METHOD:PUBLISH
X-PUBLISHED-TTL:P3D
REFRESH-INTERVAL:P3D
CALSCALE:GREGORIAN
BEGIN:VEVENT
DTSTART:20250318T170000Z
DTEND:20250318T190000Z
X-MICROSOFT-CDO-ALLDAYEVENT:FALSE
SUMMARY:Ridge Quilter's Guild General Meeting -- March 2025
DESCRIPTION:The monthly general meeting for Ridge Quilter's Guild.  Held at Paradise Lutheran Church\, 780 Luther Dr (off Skyway next to Terry Ashe Recreation Center).  This month a Trunk Show by Cathy Anderson will cover the many quilts that can be made by the X-block ruler.  Visitors welcomed.
X-ALT-DESC;FMTTYPE=text/html:The monthly general meeting for Ridge Quilter&#39\;s Guild.&nbsp\; Held at Paradise Lutheran Church\, 780 Luther Dr (off Skyway next to Terry Ashe Recreation Center).&nbsp\; This month a Trunk Show by Cathy Anderson will cover the many quilts that can be made by the X-block ruler.&nbsp\; Visitors welcomed.&nbsp\;&nbsp\;
LOCATION:
UID:e.2970.47177
SEQUENCE:3
DTSTAMP:20260420T230218Z
URL:https://business.paradisechamber.com/events/details/ridge-quilter-s-guild-general-meeting-march-2025-47177
END:VEVENT

END:VCALENDAR
