BEGIN:VCALENDAR
VERSION:2.0
PRODID:-//ChamberMaster//Event Calendar 2.0//EN
METHOD:PUBLISH
X-PUBLISHED-TTL:P3D
REFRESH-INTERVAL:P3D
CALSCALE:GREGORIAN
BEGIN:VEVENT
DTSTART:20230810T000000Z
DTEND:20230810T020000Z
X-MICROSOFT-CDO-ALLDAYEVENT:FALSE
SUMMARY:Pine Ridge Ice Cream social
DESCRIPTION:This is intended for all parents and their children who are attending Pine Ridge School this upcoming school year to meet\, mingle\, get to know other parents\, make connections\, and make the back-to-school (or first day of school) transition\, easier. Ice cream bar will be provided for school children at no cost.\n\nWe ask that you please RSVP if you intend to come so we can ensure we have enough icecream for all students attending.\n\nThis is a public event and is not specific to members of Moms of the Ridge. Feel free to share the event link/flyer with anyone that you know has kids attending Pine Ridge this upcoming school year.
X-ALT-DESC;FMTTYPE=text/html:<div class="xdj266r x11i5rnm xat24cr x1mh8g0r x1vvkbs" style="margin: 0px\; overflow-wrap: break-word\; font-family: system-ui\, -apple-system\, BlinkMacSystemFont\, &quot\;.SFNSText-Regular&quot\;\, sans-serif\; caret-color: rgb(5\, 5\, 5)\; color: rgb(5\, 5\, 5)\; font-size: 15px\;">This is intended for all parents and their children who are attending Pine Ridge School this upcoming school year to meet\, mingle\, get to know other parents\, make connections\, and make the back-to-school (or first day of school) transition\, easier. Ice cream bar will be provided for school children at no cost.</div>\n\n<div class="x11i5rnm xat24cr x1mh8g0r x1vvkbs xtlvy1s" style="margin: 0.5em 0px 0px\; overflow-wrap: break-word\; font-family: system-ui\, -apple-system\, BlinkMacSystemFont\, &quot\;.SFNSText-Regular&quot\;\, sans-serif\; caret-color: rgb(5\, 5\, 5)\; color: rgb(5\, 5\, 5)\; font-size: 15px\;">We ask that you please RSVP if you intend to come so we can ensure we have enough icecream for all students attending.</div>\n\n<div class="x11i5rnm xat24cr x1mh8g0r x1vvkbs xtlvy1s" style="margin: 0.5em 0px 0px\; overflow-wrap: break-word\; font-family: system-ui\, -apple-system\, BlinkMacSystemFont\, &quot\;.SFNSText-Regular&quot\;\, sans-serif\; caret-color: rgb(5\, 5\, 5)\; color: rgb(5\, 5\, 5)\; font-size: 15px\;">This is a public event and is not specific to members of Moms of the Ridge. Feel free to share the event link/flyer with anyone that you know has kids attending Pine Ridge this upcoming school year.</div>\n
LOCATION:Magalia Community Center
UID:e.2970.41541
SEQUENCE:3
DTSTAMP:20260423T143743Z
URL:https://business.paradisechamber.com/events/details/pine-ridge-ice-cream-social-41541
END:VEVENT

END:VCALENDAR
