BEGIN:VCALENDAR
VERSION:2.0
PRODID:-//ChamberMaster//Event Calendar 2.0//EN
METHOD:PUBLISH
X-PUBLISHED-TTL:P3D
REFRESH-INTERVAL:P3D
CALSCALE:GREGORIAN
BEGIN:VEVENT
DTSTART:20230810T000000Z
DTEND:20230810T030000Z
X-MICROSOFT-CDO-ALLDAYEVENT:FALSE
SUMMARY:PHS Administration/Classroom Building Grand Opening / Open House
DESCRIPTION:Paradise Unified School District is excited to announce the Grand Opening of the NEW Paradise High School Administration/Classroom building!
X-ALT-DESC;FMTTYPE=text/html:Paradise Unified School District is excited to announce the Grand Opening of the NEW Paradise High School Administration/Classroom building!&nbsp\;
LOCATION:Paradise High School
UID:e.2970.41344
SEQUENCE:3
DTSTAMP:20260423T144329Z
URL:https://business.paradisechamber.com/events/details/phs-administration-classroom-building-grand-opening-open-house-41344
END:VEVENT

END:VCALENDAR
