BEGIN:VCALENDAR
VERSION:2.0
PRODID:-//ChamberMaster//Event Calendar 2.0//EN
METHOD:PUBLISH
X-PUBLISHED-TTL:P3D
REFRESH-INTERVAL:P3D
CALSCALE:GREGORIAN
BEGIN:VEVENT
DTSTART:20230824T163000Z
DTEND:20230824T173000Z
X-MICROSOFT-CDO-ALLDAYEVENT:FALSE
SUMMARY:Parent & Me: Music & Movement class
DESCRIPTION:We will have a great time dancing with scarves and ribbon wands\, singing songs\, and doing fun musical group activities often with our parachute! Class is for parent/caregiver and their children aged newborn through 5 years old.
X-ALT-DESC;FMTTYPE=text/html:We will have a great time dancing with scarves and ribbon wands\, singing songs\, and doing fun musical group activities often with our parachute! Class is for parent/caregiver and their children aged newborn through 5 years old.
LOCATION:The BEST Place for Moms LLC 5923 Clark Rd\, Suite F
UID:e.2970.41620
SEQUENCE:3
DTSTAMP:20260423T143912Z
URL:https://business.paradisechamber.com/events/details/parent-me-music-movement-class-08-24-2023-41620
END:VEVENT

END:VCALENDAR
