BEGIN:VCALENDAR
VERSION:2.0
PRODID:-//ChamberMaster//Event Calendar 2.0//EN
METHOD:PUBLISH
X-PUBLISHED-TTL:P3D
REFRESH-INTERVAL:P3D
CALSCALE:GREGORIAN
BEGIN:VEVENT
DTSTART:20220915T003000Z
DTEND:20220915T020000Z
X-MICROSOFT-CDO-ALLDAYEVENT:FALSE
SUMMARY:Paradise Ridge Fire Safe Council Meeting
DESCRIPTION:Contribute to your community's fire safety and preparedness by joining the Paradise Ridge Fire Safe Council! Join us to learn about upcoming community events\, volunteer opportunities\, wildfire preparedness information\, how to form a Firewise USA community\, what Wildfire Ready Raccoon has been up to\, and more!
X-ALT-DESC;FMTTYPE=text/html:Contribute to your community&#39\;s fire safety and preparedness by joining the Paradise Ridge Fire Safe Council! Join us to learn about upcoming community events\, volunteer opportunities\, wildfire preparedness information\, how to form a Firewise USA community\, what Wildfire Ready Raccoon has been up to\, and more!
LOCATION:Gold Nugget Museum
UID:e.2970.32824
SEQUENCE:3
DTSTAMP:20260423T105226Z
URL:https://business.paradisechamber.com/events/details/paradise-ridge-fire-safe-council-meeting-09-14-2022-32824
END:VEVENT

END:VCALENDAR
