BEGIN:VCALENDAR
VERSION:2.0
PRODID:-//ChamberMaster//Event Calendar 2.0//EN
METHOD:PUBLISH
X-PUBLISHED-TTL:P3D
REFRESH-INTERVAL:P3D
CALSCALE:GREGORIAN
BEGIN:VEVENT
DTSTART:20230812T190000Z
DTEND:20230813T030000Z
X-MICROSOFT-CDO-ALLDAYEVENT:FALSE
SUMMARY:Paradise Moose Lodge 54th Anniversary Party
DESCRIPTION:Would like to invite everyone to come out and celebrate our 54th Anniversary Picnic.\n\n\n\nThis event will be open to the public.\n\nwe will be doing Smokin Moe's Ribs and Chicken with Baked Beans\, Potato Salad and Muffin.\n\nSoul Posse will be playing for your enjoyment!\n\n\n\nWe will be selling keys for $10 a piece and if your key opens the cash box you will get $400. \n\n\n\nCost of the tickets will be $18.
X-ALT-DESC;FMTTYPE=text/html:<br />\n<span style="color: rgb(5\, 5\, 5)\; font-family: &quot\;Segoe UI Historic&quot\;\, &quot\;Segoe UI&quot\;\, Helvetica\, Arial\, sans-serif\; font-size: 15px\; white-space-collapse: preserve\;">Would like to invite everyone to come out and celebrate our 54th Anniversary Picnic.<br />\n<br />\n<strong>This event will be open to the public.</strong><br />\nwe will be doing Smokin Moe&#39\;s Ribs and Chicken with Baked Beans\, </span><span style="color: rgb(5\, 5\, 5)\; font-family: &quot\;Segoe UI Historic&quot\;\, &quot\;Segoe UI&quot\;\, Helvetica\, Arial\, sans-serif\; font-size: 15px\; white-space-collapse: preserve\;">Potato Salad and Muffin.<br />\nSoul Posse will be playing for your enjoyment!<br />\n<br />\nWe will be selling keys for $10 a piece and if your key opens the cash box you will get $400. </span><br />\n<br />\n<span style="color: rgb(5\, 5\, 5)\; font-family: &quot\;Segoe UI Historic&quot\;\, &quot\;Segoe UI&quot\;\, Helvetica\, Arial\, sans-serif\; font-size: 15px\; white-space-collapse: preserve\;">Cost of the tickets will be $18.</span>
LOCATION:Paradise Moose Family Center
UID:e.2970.41588
SEQUENCE:3
DTSTAMP:20260423T150117Z
URL:https://business.paradisechamber.com/events/details/paradise-moose-lodge-54th-anniversary-party-41588
END:VEVENT

END:VCALENDAR
