BEGIN:VCALENDAR
VERSION:2.0
PRODID:-//ChamberMaster//Event Calendar 2.0//EN
METHOD:PUBLISH
X-PUBLISHED-TTL:P3D
REFRESH-INTERVAL:P3D
CALSCALE:GREGORIAN
BEGIN:VEVENT
DTSTART:20230805T190000Z
DTEND:20230805T193000Z
X-MICROSOFT-CDO-ALLDAYEVENT:FALSE
SUMMARY:Paradise Monthly Siren Test
DESCRIPTION:The Early Warning Sirens (EWS) will be tested the first Saturday of each month at 12:00pm.\n\nResidents should expect to hear a voice command stating:\n\n          "This is a test of the Paradise Early Warning Sirens." \n\n          Followed by a 30-second-high low siren. \n\n          "This is a test of the Paradise Early Warning Sirens."\n\nOnce the last voice command is played that will conclude that month's test of the EWS system. \n\nTesting the EWS allows our team to ensure that the sirens work as intended and meet the specified requirements. It helps identify any defects or deviations and allows us to also measure and evaluate the performance of the system\, software\, and product.\n\n\n\n\n\nPlease fill out the survey HERE\, and let us know what you heard.
X-ALT-DESC;FMTTYPE=text/html:The Early Warning Sirens (EWS) will be tested the first Saturday of each month at 12:00pm.<br />\nResidents should expect to hear a voice command stating:<br />\n&middot\;&nbsp\;&nbsp\;&nbsp\;&nbsp\;&nbsp\;&nbsp\;&nbsp\;&nbsp\; &ldquo\;This is a test of the Paradise Early Warning Sirens.&rdquo\;&nbsp\;<br />\n&middot\;&nbsp\;&nbsp\;&nbsp\;&nbsp\;&nbsp\;&nbsp\;&nbsp\;&nbsp\; Followed by a 30-second-high low siren.&nbsp\;<br />\n&middot\;&nbsp\;&nbsp\;&nbsp\;&nbsp\;&nbsp\;&nbsp\;&nbsp\;&nbsp\; &ldquo\;This is a test of the Paradise Early Warning Sirens.&rdquo\;<br />\nOnce the last voice command is played that will conclude that month&rsquo\;s test of the EWS&nbsp\;system.&nbsp\;<br />\nTesting the EWS allows our team to ensure that the sirens work as intended and meet the specified requirements. It helps identify any defects or deviations and allows us to also measure and evaluate the performance of the system\, software\, and product.<br />\n<br />\n<br />\nPlease fill out the survey <a href="https://www.surveymonkey.com/r/2JDFKLX?fbclid=IwAR18TYeQOwydK0OA1kMdGd_CNlOLvPWTY0G2vuXWeEJoIIOG7dUuBTfmHVc">HERE</a>\, and let us know what you heard.
LOCATION:Throughout the Town of Paradise town limits. As more towers are completed\, they will be incorporated in the monthly testing. See map on website.
UID:e.2970.41464
SEQUENCE:3
DTSTAMP:20260423T144036Z
URL:https://business.paradisechamber.com/events/details/paradise-monthly-siren-test-08-05-2023-41464
END:VEVENT

END:VCALENDAR
