BEGIN:VCALENDAR
VERSION:2.0
PRODID:-//ChamberMaster//Event Calendar 2.0//EN
METHOD:PUBLISH
X-PUBLISHED-TTL:P3D
REFRESH-INTERVAL:P3D
CALSCALE:GREGORIAN
BEGIN:VEVENT
DTSTART:20240812T200000Z
DTEND:20240812T220000Z
X-MICROSOFT-CDO-ALLDAYEVENT:FALSE
SUMMARY:Paradise Garden Club
DESCRIPTION:You do not need to be an avid gardener to attend. Our purpose is: "The object of this club shall be to devote its activities and funds to promote community interest in beautiful gardens\, flower arrangements\, landscaping\, cultivation of horticulture and beautification of the community." Meetings may have a speaker\, an activity\, a plant swap or a demonstration. Please come for a visit and maybe you'll get "rooted"!
X-ALT-DESC;FMTTYPE=text/html:You do not need to be an avid gardener to attend. Our purpose is: &quot\;The object of this club shall be to devote its activities and funds to promote community interest in beautiful gardens\, flower arrangements\, landscaping\, cultivation of horticulture and beautification of the community.&quot\; Meetings may have a speaker\, an activity\, a plant swap or a demonstration. Please come for a visit and maybe you&#39\;ll get &quot\;rooted&quot\;!
LOCATION:Terry Ashe Recreation Center
UID:e.2970.43907
SEQUENCE:3
DTSTAMP:20260421T160711Z
URL:https://business.paradisechamber.com/events/details/paradise-garden-club-08-12-2024-43907
END:VEVENT

END:VCALENDAR
