BEGIN:VCALENDAR
VERSION:2.0
PRODID:-//ChamberMaster//Event Calendar 2.0//EN
METHOD:PUBLISH
X-PUBLISHED-TTL:P3D
REFRESH-INTERVAL:P3D
CALSCALE:GREGORIAN
BEGIN:VEVENT
DTSTART:20220919T233000Z
DTEND:20220920T023000Z
X-MICROSOFT-CDO-ALLDAYEVENT:FALSE
SUMMARY:Paradise Farmers Market
DESCRIPTION:The Chico Certified Farmers' Market (CCFM) provides a unique opportunity for farmers and vendors to sell directly to the consumer by hosting Certified Farmers' Markets. Our focus is on bringing the community together and supporting local farmers\, crafters and food vendors.
X-ALT-DESC;FMTTYPE=text/html:The Chico Certified Farmers&rsquo\; Market (CCFM) provides a unique opportunity for farmers and vendors to sell directly to the consumer by hosting Certified Farmers&rsquo\; Markets. Our focus is on bringing the community together and supporting local farmers\, crafters and food vendors.
LOCATION:Holiday Shopping Center parking lot
UID:e.2970.32641
SEQUENCE:3
DTSTAMP:20260423T092011Z
URL:https://business.paradisechamber.com/events/details/paradise-farmers-market-09-19-2022-32641
END:VEVENT

END:VCALENDAR
