BEGIN:VCALENDAR
VERSION:2.0
PRODID:-//ChamberMaster//Event Calendar 2.0//EN
METHOD:PUBLISH
X-PUBLISHED-TTL:P3D
REFRESH-INTERVAL:P3D
CALSCALE:GREGORIAN
BEGIN:VEVENT
DTSTART:20220912T233000Z
DTEND:20220913T023000Z
X-MICROSOFT-CDO-ALLDAYEVENT:FALSE
SUMMARY:Paradise Farmers Market
DESCRIPTION:The Chico Certified Farmers' Market (CCFM) provides a unique opportunity for farmers and vendors to sell directly to the consumer by hosting Certified Farmers' Markets. Our focus is on bringing the community together and supporting local farmers\, crafters and food vendors.
X-ALT-DESC;FMTTYPE=text/html:The Chico Certified Farmers&rsquo\; Market (CCFM) provides a unique opportunity for farmers and vendors to sell directly to the consumer by hosting Certified Farmers&rsquo\; Markets. Our focus is on bringing the community together and supporting local farmers\, crafters and food vendors.
LOCATION:Holiday Shopping Center parking lot
UID:e.2970.32640
SEQUENCE:3
DTSTAMP:20260423T105354Z
URL:https://business.paradisechamber.com/events/details/paradise-farmers-market-09-12-2022-32640
END:VEVENT

END:VCALENDAR
