BEGIN:VCALENDAR
VERSION:2.0
PRODID:-//ChamberMaster//Event Calendar 2.0//EN
METHOD:PUBLISH
X-PUBLISHED-TTL:P3D
REFRESH-INTERVAL:P3D
CALSCALE:GREGORIAN
BEGIN:VEVENT
DTSTART:20230805T190000Z
DTEND:20230805T230000Z
X-MICROSOFT-CDO-ALLDAYEVENT:FALSE
SUMMARY:Paradise Depot Museum Open
DESCRIPTION:First Saturday of each month the Paradise Depot Museum will be open from 12-4pm
X-ALT-DESC;FMTTYPE=text/html:First Saturday of each month the Paradise Depot Museum will be open from 12-4pm
LOCATION:Paradise Depot Museum in Paradise Community Park
UID:e.2970.41350
SEQUENCE:3
DTSTAMP:20260423T150102Z
URL:https://business.paradisechamber.com/events/details/paradise-depot-museum-open-08-05-2023-41350
END:VEVENT

END:VCALENDAR
