BEGIN:VCALENDAR
VERSION:2.0
PRODID:-//ChamberMaster//Event Calendar 2.0//EN
METHOD:PUBLISH
X-PUBLISHED-TTL:P3D
REFRESH-INTERVAL:P3D
CALSCALE:GREGORIAN
BEGIN:VEVENT
DTSTART:20240611T160000Z
DTEND:20240611T180000Z
X-MICROSOFT-CDO-ALLDAYEVENT:FALSE
SUMMARY:Paid and Guerilla Marketing
DESCRIPTION:Determine the right marketing strategy for your business\, based on Paid marketing\, or through low-cost Guerilla marketing. Learn the differences between the types of marketing based on paid or non-paid strategies\, as well as expected results. You will learn about various aspects of both Paid and Guerilla marketing strategies\, examples of each\, and what activities are involved with each. This is a great opportunity to learn more about unique strategies to make your business stand out from the rest. Topics will include: Paid vs Guerilla marketing overview\, best practices of Paid and Guerilla marketing strategies\, costs involved\, time expectations/work involved\, creative vs consistent strategies and strategies to build your own marketing plan.
X-ALT-DESC;FMTTYPE=text/html:Determine the right marketing strategy for your business\, based on Paid marketing\, or through low-cost Guerilla marketing. Learn the differences between the types of marketing based on paid or non-paid strategies\, as well as expected results. You will learn about various aspects of both Paid and Guerilla marketing strategies\, examples of each\, and what activities are involved with each. This is a great opportunity to learn more about unique strategies to make your business stand out from the rest. Topics will include: Paid vs Guerilla marketing overview\, best practices of Paid and Guerilla marketing strategies\, costs involved\, time expectations/work involved\, creative vs consistent strategies and strategies to build your own marketing plan.
LOCATION:Colusa City Hall\,
UID:e.2970.44327
SEQUENCE:3
DTSTAMP:20260423T161207Z
URL:https://business.paradisechamber.com/events/details/paid-and-guerilla-marketing-06-11-2024-44327
END:VEVENT

END:VCALENDAR
