BEGIN:VCALENDAR
VERSION:2.0
PRODID:-//ChamberMaster//Event Calendar 2.0//EN
METHOD:PUBLISH
X-PUBLISHED-TTL:P3D
REFRESH-INTERVAL:P3D
CALSCALE:GREGORIAN
BEGIN:VEVENT
DTSTART:20230816T173000Z
DTEND:20230816T183000Z
X-MICROSOFT-CDO-ALLDAYEVENT:FALSE
SUMMARY:Osher Lifelong Learning Institute (OLLI) Fall '23 Online Class Preview
DESCRIPTION:Ready\, Set\, Zoom! OLLI is a community of lifelong learners aged 50+ who work together to help create and deliver educational\, cultural\, and social opportunities   without exams or grades! We invite you to join us on August 16 from 10:30-11:30 a.m. via Zoom to learn about our fall classes and hear from volunteer instructors who'll be leading in-person\, outdoor\, and online classes this fall! Visit the OLLI website olli.csuchico.edu for the Zoom link and more information. Want to see what classes are being offered this fall? Visit the OLLI website for a complete listing of classes and descriptions at olli.csuchico.edu OLLI fall '23 registration opens August 24 at 9:00 a.m. Fall classes start September 11.
X-ALT-DESC;FMTTYPE=text/html:Ready\, Set\, Zoom! OLLI is a community of lifelong learners aged 50+ who work together to help create and deliver educational\, cultural\, and social opportunities &ndash\; without exams or grades! We invite you to join us on August 16 from 10:30-11:30 a.m. via Zoom to learn about our fall classes and hear from volunteer instructors who&#39\;ll be leading in-person\, outdoor\, and online classes this fall! Visit the OLLI website olli.csuchico.edu for the Zoom link and more information. Want to see what classes are being offered this fall? Visit the OLLI website for a complete listing of classes and descriptions at olli.csuchico.edu OLLI fall &#39\;23 registration opens August 24 at 9:00 a.m. Fall classes start September 11.
LOCATION:Virtual Via Zoom
UID:e.2970.41573
SEQUENCE:3
DTSTAMP:20260423T150102Z
URL:https://business.paradisechamber.com/events/details/osher-lifelong-learning-institute-olli-fall-23-online-class-preview-41573
END:VEVENT

END:VCALENDAR
