BEGIN:VCALENDAR
VERSION:2.0
PRODID:-//ChamberMaster//Event Calendar 2.0//EN
METHOD:PUBLISH
X-PUBLISHED-TTL:P3D
REFRESH-INTERVAL:P3D
CALSCALE:GREGORIAN
BEGIN:VEVENT
DTSTART:20230817T173000Z
DTEND:20230817T190000Z
X-MICROSOFT-CDO-ALLDAYEVENT:FALSE
SUMMARY:Osher Lifelong Learning Institute (OLLI) Fall '23 In-person Class Preview
DESCRIPTION:Bring a friend and join OLLI members on August 17 from 10:30 a.m. until Noon for the In-person OLLI fall class preview at the Chico Masonic Family Center\, 1110 W. East Avenue. OLLI is a community of lifelong learners aged 50+ who work together to help create and deliver educational\, cultural\, and social opportunities   without exams or grades! Come see what OLLI is offering this fall and enjoy free parking\, coffee\, and snacks! Learn about all the great classes planned and hear from the volunteer instructors who'll be leading in-person\, outdoor\, and online classes. Visit the OLLI website at www.olli.csuchico.edu for more information\, and to join!
X-ALT-DESC;FMTTYPE=text/html:Bring a friend and join OLLI members on August 17 from 10:30 a.m. until Noon for the In-person OLLI fall class preview at the Chico Masonic Family Center\, 1110 W. East Avenue. OLLI is a community of lifelong learners aged 50+ who work together to help create and deliver educational\, cultural\, and social opportunities &ndash\; without exams or grades! Come see what OLLI is offering this fall and enjoy free parking\, coffee\, and snacks! Learn about all the great classes planned and hear from the volunteer instructors who&#39\;ll be leading in-person\, outdoor\, and online classes. Visit the OLLI website at www.olli.csuchico.edu for more information\, and to join!
LOCATION:Chico Masonic Family Center\, 1110 W. East Avenue\, Chico CA
UID:e.2970.41574
SEQUENCE:3
DTSTAMP:20260423T144137Z
URL:https://business.paradisechamber.com/events/details/osher-lifelong-learning-institute-olli-fall-23-in-person-class-preview-41574
END:VEVENT

END:VCALENDAR
