BEGIN:VCALENDAR
VERSION:2.0
PRODID:-//ChamberMaster//Event Calendar 2.0//EN
METHOD:PUBLISH
X-PUBLISHED-TTL:P3D
REFRESH-INTERVAL:P3D
CALSCALE:GREGORIAN
BEGIN:VEVENT
DTSTART:20230824T160000Z
DTEND:20230825T040000Z
X-MICROSOFT-CDO-ALLDAYEVENT:FALSE
SUMMARY:Osher Lifelong Learning Institute (OLLI) Fall '23 Class Registration OPENS
DESCRIPTION:Mark your calendars! OLLI fall '23 registration opens August 24 at 9:00 a.m. and will continue throughout the fall. Classes start September 11. OLLI is a community of lifelong learners aged 50+ who work together to help create and deliver educational\, cultural\, and social opportunities   without exams or grades! Whether you enjoy a class in-person\, join an outdoor meetup\, or learn online\, OLLI has an option for everyone. From learning Tai chi to listening to a lecture on Myths\, Legends\, and Tales of the Celts to Birding at Llano Seco\, your calendar will be filled with exciting and engaging activities all fall. Did you know OLLI has even more to offer this year? More membership options\, classes\, activities\, and opportunities to learn and stay connected. Check it out this fall! Visit the OLLI website www.olli.csuchico.edu for more information and to join!
X-ALT-DESC;FMTTYPE=text/html:Mark your calendars! OLLI fall &#39\;23 registration opens August 24 at 9:00 a.m. and will continue throughout the fall. Classes start September 11. OLLI is a community of lifelong learners aged 50+ who work together to help create and deliver educational\, cultural\, and social opportunities &ndash\; without exams or grades! Whether you enjoy a class in-person\, join an outdoor meetup\, or learn online\, OLLI has an option for everyone. From learning Tai chi to listening to a lecture on Myths\, Legends\, and Tales of the Celts to Birding at Llano Seco\, your calendar will be filled with exciting and engaging activities all fall. Did you know OLLI has even more to offer this year? More membership options\, classes\, activities\, and opportunities to learn and stay connected. Check it out this fall! Visit the OLLI website www.olli.csuchico.edu for more information and to join!
LOCATION:Online
UID:e.2970.41575
SEQUENCE:3
DTSTAMP:20260423T144007Z
URL:https://business.paradisechamber.com/events/details/osher-lifelong-learning-institute-olli-fall-23-class-registration-opens-41575
END:VEVENT

END:VCALENDAR
