BEGIN:VCALENDAR
VERSION:2.0
PRODID:-//ChamberMaster//Event Calendar 2.0//EN
METHOD:PUBLISH
X-PUBLISHED-TTL:P3D
REFRESH-INTERVAL:P3D
CALSCALE:GREGORIAN
BEGIN:VEVENT
DTSTART:20230830T180000Z
DTEND:20230830T190000Z
X-MICROSOFT-CDO-ALLDAYEVENT:FALSE
SUMMARY:Morning Inspiration Hour
DESCRIPTION:Morning Inspiration Hour\n\nMorning Inspiration Hour is a topic based\, safe\, non-judgmental place to share. With the support of a group\, we will discover ways to notice and recognize our habits and patterns. Once we are able to see them\, we are more able to learn from them and how to develop healthy tools for repatterning our habits toward cultivating resiliency.
X-ALT-DESC;FMTTYPE=text/html:<span style="font-family: Roboto\, sans-serif\; font-size: 21px\; font-weight: 700\; background-color: rgb(240\, 240\, 240)\;">Morning Inspiration Hour</span><br />\nMorning Inspiration Hour is a topic based\, safe\, non-judgmental place to share. With the support of a group\, we will discover ways to notice and recognize our habits and patterns. Once we are able to see them\, we are more able to learn from them and how to develop healthy tools for repatterning our habits toward cultivating resiliency.
LOCATION:Join us on Zoom
UID:e.2970.40318
SEQUENCE:3
DTSTAMP:20260423T160952Z
URL:https://business.paradisechamber.com/events/details/morning-inspiration-hour-08-30-2023-40318
END:VEVENT

END:VCALENDAR
