BEGIN:VCALENDAR
VERSION:2.0
PRODID:-//ChamberMaster//Event Calendar 2.0//EN
METHOD:PUBLISH
X-PUBLISHED-TTL:P3D
REFRESH-INTERVAL:P3D
CALSCALE:GREGORIAN
BEGIN:VEVENT
DTSTART:20241217T170000Z
DTEND:20241217T230000Z
X-MICROSOFT-CDO-ALLDAYEVENT:FALSE
SUMMARY:Microsoft Power BI
DESCRIPTION:In MS Power BI\, topic areas including getting started with terms and navigating the Power BI interface (web and desktop)\, working with data through data source connection\, creating reports and data modeling will be covered. The Microsoft Power BI collection of software\, apps\, and services helps analyze your organization's data and uncover insights and trends. There is no prerequisite for this session a working knowledge of Microsoft Excel is helpful at an intermediate level. NOTE: A working Microsoft Office 365 account is required and will be used in this training.
X-ALT-DESC;FMTTYPE=text/html:In MS Power BI\, topic areas including getting started with terms and navigating the Power BI interface (web and desktop)\, working with data through data source connection\, creating reports and data modeling will be covered. The Microsoft Power BI collection of software\, apps\, and services helps analyze your organization&rsquo\;s data and uncover insights and trends. There is no prerequisite for this session a working knowledge of Microsoft Excel is helpful at an intermediate level. NOTE: A working Microsoft Office 365 account is required and will be used in this training.
LOCATION:The Training Place - Butte College Room 133
UID:e.2970.44546
SEQUENCE:3
DTSTAMP:20260426T002845Z
URL:https://business.paradisechamber.com/events/details/microsoft-power-bi-44546
END:VEVENT

END:VCALENDAR
