BEGIN:VCALENDAR
VERSION:2.0
PRODID:-//ChamberMaster//Event Calendar 2.0//EN
METHOD:PUBLISH
X-PUBLISHED-TTL:P3D
REFRESH-INTERVAL:P3D
CALSCALE:GREGORIAN
BEGIN:VEVENT
DTSTART:20241211T170000Z
DTEND:20241211T230000Z
X-MICROSOFT-CDO-ALLDAYEVENT:FALSE
SUMMARY:Microsoft Power Apps
DESCRIPTION:Learn how to quickly build custom business apps that connect to your data stored either in the underlying data platform (Microsoft Dataverse) or in various online and on-premises data sources (such as SharePoint\, Microsoft 365\, Dynamics 365\, SQL Server\, and so on).
X-ALT-DESC;FMTTYPE=text/html:Learn how to quickly build custom business apps that connect to your data stored either in the underlying data platform (Microsoft Dataverse) or in various online and on-premises data sources (such as SharePoint\, Microsoft 365\, Dynamics 365\, SQL Server\, and so on).
LOCATION:The Training Place - Butte College
UID:e.2970.44545
SEQUENCE:3
DTSTAMP:20260426T002752Z
URL:https://business.paradisechamber.com/events/details/microsoft-power-apps-44545
END:VEVENT

END:VCALENDAR
