BEGIN:VCALENDAR
VERSION:2.0
PRODID:-//ChamberMaster//Event Calendar 2.0//EN
METHOD:PUBLISH
X-PUBLISHED-TTL:P3D
REFRESH-INTERVAL:P3D
CALSCALE:GREGORIAN
BEGIN:VEVENT
DTSTART:20221106T180000Z
DTEND:20221106T210000Z
X-MICROSOFT-CDO-ALLDAYEVENT:FALSE
SUMMARY:Magalia Farmers MarketMobile
DESCRIPTION:Fresh produce provided by the Farmers MarketMobile\, a service of the Butte County Local Food Network (produce available until sold out).  A wonderful place to hang with your family on a Sunday morning in the Pines.  EBT\, Angel Cards\, cash\, debit or credit all accepted at the MarketMobile.  Arrive early as produce sells out fast!  \n\n\n\nInclement weather may cancel. Check Butte County Local Food Network Facebook page for timely information.
X-ALT-DESC;FMTTYPE=text/html:Fresh produce provided by the Farmers MarketMobile\, a service of the Butte County Local Food Network (produce available until sold out).&nbsp\; A wonderful place to hang with your family on a Sunday morning in the Pines.&nbsp\; EBT\, Angel Cards\, cash\, debit or credit all accepted at the MarketMobile.&nbsp\; Arrive early as produce sells out fast!&nbsp\;&nbsp\;<br />\n<br />\n<span style="color: rgb(0\, 0\, 0)\; font-family: Calibri\, Helvetica\, Arial\, sans-serif\; font-size: 16px\; white-space: pre-wrap\;">Inclement weather may cancel. Check <a href="https://www.facebook.com/ButteCountyLocalFoodNetwork/">Butte County Local Food Network Facebook page</a> for timely information.</span>
LOCATION:Magalia Community Center (parking lot) Corner of Andover and South Park Drive\, just off the Skyway
UID:e.2970.32076
SEQUENCE:3
DTSTAMP:20260421T084801Z
URL:https://business.paradisechamber.com/events/details/magalia-farmers-marketmobile-11-06-2022-32076
END:VEVENT

END:VCALENDAR
