BEGIN:VCALENDAR
VERSION:2.0
PRODID:-//ChamberMaster//Event Calendar 2.0//EN
METHOD:PUBLISH
X-PUBLISHED-TTL:P3D
REFRESH-INTERVAL:P3D
CALSCALE:GREGORIAN
BEGIN:VEVENT
DTSTART:20220904T210000Z
DTEND:20220905T000000Z
X-MICROSOFT-CDO-ALLDAYEVENT:FALSE
SUMMARY:‘Let’s Dance’ with Cottonwood Band
DESCRIPTION:"Barnyard Soul" band Cottonwood covers a wide variety of genres\, including: Oldies Rock and Roll\, Classic Country\, Easy Listening and a few Cottonwood Original Tunes. Cottonwood is favorite of dancers young and old.
X-ALT-DESC;FMTTYPE=text/html:<span style="color: rgb(34\, 34\, 34)\; font-family: Arial\, Helvetica\, sans-serif\; font-size: small\;">&quot\;Barnyard Soul&quot\; band Cottonwood covers a wide variety of genres\, including: Oldies Rock and Roll\, Classic Country\, Easy Listening and a few Cottonwood Original Tunes. Cottonwood is favorite of dancers young and old.</span>
LOCATION:Paradise Veterans Memorial Hall
UID:e.2970.34509
SEQUENCE:3
DTSTAMP:20260423T105003Z
URL:https://business.paradisechamber.com/events/details/let-s-dance-with-cottonwood-band-34509
END:VEVENT

END:VCALENDAR
