BEGIN:VCALENDAR
VERSION:2.0
PRODID:-//ChamberMaster//Event Calendar 2.0//EN
METHOD:PUBLISH
X-PUBLISHED-TTL:P3D
REFRESH-INTERVAL:P3D
CALSCALE:GREGORIAN
BEGIN:VEVENT
DTSTART:20240728T193000Z
DTEND:20240728T233000Z
X-MICROSOFT-CDO-ALLDAYEVENT:FALSE
SUMMARY:Let’s Dance Paradise Community Dance: Whiskey River Band
DESCRIPTION:Let's Dance \n\n\n\nHoedown with music by Whiskey River Band\n\nHosted by Ed & Christy\n\n\n\nBest dance floor in Butte County\n\nDoors open at 12:30p.m. - Dancing from 2 - 4:30 p.m.\n\nLine Dance Lessons with Pat Clark from 1-2p.m.\n\n\n\nAll dancers welcome - Casual Attire\n\n$8.00 per person includes free water\, tea\, & coffee!\n\n50/50 Drawing & Door Prizes\n\n\n\nSnacks to share Welcome! - Lots of Parking\n\n\n\nQuestions: Call Ed Cannon at 530-586-2826
X-ALT-DESC;FMTTYPE=text/html:<span style="font-size:20px\;"><strong>Let&#39\;s Dance&nbsp\;</strong></span><br />\n<br />\n<span style="font-size:16px\;">Hoedown with music by Whiskey River Band</span><br />\nHosted by Ed &amp\; Christy<br />\n<br />\nBest dance floor in Butte County<br />\nDoors open at 12:30p.m. - Dancing from 2 - 4:30 p.m.<br />\nLine Dance Lessons with Pat Clark from 1-2p.m.<br />\n<br />\nAll dancers welcome - Casual Attire<br />\n$8.00 per person includes free water\, tea\, &amp\; coffee!<br />\n50/50 Drawing &amp\; Door Prizes<br />\n<br />\nSnacks to share Welcome! - Lots of Parking<br />\n<br />\nQuestions: Call Ed Cannon at 530-586-2826<br />\n&nbsp\;
LOCATION:Paradise VFW Hall
UID:e.2970.45105
SEQUENCE:3
DTSTAMP:20260421T140548Z
URL:https://business.paradisechamber.com/events/details/let-s-dance-paradise-community-dance-whiskey-river-band-45105
END:VEVENT

END:VCALENDAR
