BEGIN:VCALENDAR
VERSION:2.0
PRODID:-//ChamberMaster//Event Calendar 2.0//EN
METHOD:PUBLISH
X-PUBLISHED-TTL:P3D
REFRESH-INTERVAL:P3D
CALSCALE:GREGORIAN
BEGIN:VEVENT
DTSTART:20240717T200000Z
DTEND:20240717T230000Z
X-MICROSOFT-CDO-ALLDAYEVENT:FALSE
SUMMARY:LeaderShift
DESCRIPTION:In this LeaderShift mastermind we will discuss vitally important leader shifts including: How to continually learn\, unlearn and relearn touchstone leadership principles. How to go from pleasing people to challenging people to become better leader and mentor How to change your focus from maintaining to creating\, unlocking the mental blocks keeping you from reaching your full potential. How to move from being goal- oriented to growth oriented while dropping bad habits\, changing wrong priorities\, and embracing new ways of thinking.
X-ALT-DESC;FMTTYPE=text/html:In this LeaderShift mastermind we will discuss vitally important leader shifts including: How to continually learn\, unlearn and relearn touchstone leadership principles. How to go from pleasing people to challenging people to become better leader and mentor How to change your focus from maintaining to creating\, unlocking the mental blocks keeping you from reaching your full potential. How to move from being goal- oriented to growth oriented while dropping bad habits\, changing wrong priorities\, and embracing new ways of thinking.
LOCATION:Virtual Class
UID:e.2970.44502
SEQUENCE:3
DTSTAMP:20260421T141532Z
URL:https://business.paradisechamber.com/events/details/leadershift-06-17-2024-44502
END:VEVENT

END:VCALENDAR
