BEGIN:VCALENDAR
VERSION:2.0
PRODID:-//ChamberMaster//Event Calendar 2.0//EN
METHOD:PUBLISH
X-PUBLISHED-TTL:P3D
REFRESH-INTERVAL:P3D
CALSCALE:GREGORIAN
BEGIN:VEVENT
DTSTART:20240712T170000Z
DTEND:20240713T000000Z
X-MICROSOFT-CDO-ALLDAYEVENT:FALSE
SUMMARY:Homespun Holidays Craft Show
DESCRIPTION:Come out and support our local artisans with their handmade creations. We'll have Christmas in July as well as everything else. Quilts\, dolls\, jewelry\, baked goods\, woodwork\, wreaths\, soap\, kitchen accessories\, decorations\, tole painting\, and more!
X-ALT-DESC;FMTTYPE=text/html:Come out and support our local artisans with their handmade creations. We&rsquo\;ll have Christmas in July as well as everything else. Quilts\, dolls\, jewelry\, baked goods\, woodwork\, wreaths\, soap\, kitchen accessories\, decorations\, tole painting\, and more!
LOCATION:Paradise Masonic Lodge 5934 Clark Rd Paradise\, CA
UID:e.2970.44715
SEQUENCE:3
DTSTAMP:20260423T163238Z
URL:https://business.paradisechamber.com/events/details/homespun-holidays-craft-show-07-12-2024-44715
END:VEVENT

END:VCALENDAR
