BEGIN:VCALENDAR
VERSION:2.0
PRODID:-//ChamberMaster//Event Calendar 2.0//EN
METHOD:PUBLISH
X-PUBLISHED-TTL:P3D
REFRESH-INTERVAL:P3D
CALSCALE:GREGORIAN
BEGIN:VEVENT
DTSTART:20230804T160000Z
DTEND:20230804T193000Z
X-MICROSOFT-CDO-ALLDAYEVENT:FALSE
SUMMARY:Home Buyers Workshop
DESCRIPTION:Homebuyer Workshop\n\nAugust 4th from 9:00am- 12:30pm visit the Town of Paradise\, Council Chambers to learn about the home purchasing process. Local professionals involved will cover topics such as lender requirements\, the importance of the purchase agreement\, the title & escrow process and much more! For more information and to save your seat call 530-872-6291 ext. 122.
X-ALT-DESC;FMTTYPE=text/html:<strong><span style="color:black\;"><span style="font-family:helvetica neue\,serif\;">Homebuyer Workshop</span></span></strong><br />\n<span style="color:black\;"><span style="font-family:helvetica neue\,serif\;">August 4th from 9:00am- 12:30pm visit the Town of Paradise\, Council Chambers to learn about the home purchasing process. Local professionals involved will cover topics such as lender requirements\, the importance of the purchase agreement\, the title &amp\; escrow process and much more! For more information and to save your seat call 530-872-6291 ext. 122.</span></span>
LOCATION:Town of Paradise
UID:e.2970.41599
SEQUENCE:3
DTSTAMP:20260423T143706Z
URL:https://business.paradisechamber.com/events/details/home-buyers-workshop-41599
END:VEVENT

END:VCALENDAR
