BEGIN:VCALENDAR
VERSION:2.0
PRODID:-//ChamberMaster//Event Calendar 2.0//EN
METHOD:PUBLISH
X-PUBLISHED-TTL:P3D
REFRESH-INTERVAL:P3D
CALSCALE:GREGORIAN
BEGIN:VEVENT
DTSTART:20241207T190000Z
DTEND:20241208T010000Z
X-MICROSOFT-CDO-ALLDAYEVENT:FALSE
SUMMARY:Holiday Boutique
DESCRIPTION:The Paradise Art Center will hold a Holiday Boutique on Saturday December 7 from 11am to 5pm. You'll find unique\, one -of-kind gifts for family and friends created by local artists. Great gifts at great prices. Christmas cookies will be served. Paradise Art Center. 5564 Almond Street. Paradise-art-center.com Support art in Paradise
X-ALT-DESC;FMTTYPE=text/html:The Paradise Art Center will hold a Holiday Boutique on Saturday December 7 from 11am to 5pm. You&rsquo\;ll find unique\, one -of-kind gifts for family and friends created by local artists. Great gifts at great prices. Christmas cookies will be served. Paradise Art Center. 5564 Almond Street. Paradise-art-center.com Support art in Paradise
LOCATION:Paradise Art Center
UID:e.2970.46701
SEQUENCE:3
DTSTAMP:20260426T003045Z
URL:https://business.paradisechamber.com/events/details/holiday-boutique-46701
END:VEVENT

END:VCALENDAR
