BEGIN:VCALENDAR
VERSION:2.0
PRODID:-//ChamberMaster//Event Calendar 2.0//EN
METHOD:PUBLISH
X-PUBLISHED-TTL:P3D
REFRESH-INTERVAL:P3D
CALSCALE:GREGORIAN
BEGIN:VEVENT
DTSTART:20221029T230000Z
DTEND:20221030T020000Z
X-MICROSOFT-CDO-ALLDAYEVENT:FALSE
SUMMARY:Halloween Family Fun!
DESCRIPTION:Spooky safe fun with Trunk-or-Treat will be hosted by the Paradise Pines Property Owners Association (POA)\, the Magalia Community Park\, and the Magalia Baptist Church on Skyway from 4 to 7 p.m. A Halloween Carnival at the Red Lion Pizza will follow.\n\n\n\nWhat is Trunk-or-Treat? Trunk-or-Treat is an organized alternative to the house-to-house trick-or-treating tradition associated with Halloween. Adult volunteer witches and goblins will park their cars in a designated parking area\, pop the trunks of their decorated vehicles\, and hand out candy to costumed trick or treaters.\n\n\n\nWhere do I take my kiddos to Trunk-or-Treat? Trunk or-Treat vehicles will be waiting for trick-or-treaters in the POA parking area (next to the tennis courts where parents may park and escort their ghosts and goblins from car to car)\, the Magalia Baptist Church\, and the parking lot across from the Magalia Community Park Center.\n\n\n\nVolunteers Needed: If you love Halloween and would like to join in the fun\, please show up at the POA parking lot between 3-3:30 pm to decorate your vehicle and hand out candy to trick or treaters. There's plenty of space. You may register your vehicle by emailing kathihiatt@att.net.\n\n \n\nThere's More spooky fun on Oct 29th at the Halloween Carnival in the parking lot of Red Lion Pizza on the Skyway in Magalia.
X-ALT-DESC;FMTTYPE=text/html:<br />\n<span style="font-family:times new roman\,serif\;"><span style="font-size:12pt\;">Spooky safe fun with Trunk-or-Treat will be hosted by the Paradise Pines Property Owners Association (POA)\, the Magalia Community Park\, and the Magalia Baptist Church on Skyway from 4 to 7 p.m. A Halloween Carnival at the Red Lion Pizza will follow.</span></span><br />\n<br />\n<strong><span style="font-family:times new roman\,serif\;"><span style="font-size:12pt\;">What is Trunk-or-Treat?&nbsp\;</span></span></strong><span style="font-family:times new roman\,serif\;"><span style="font-size:12pt\;">Trunk-or-Treat is an organized alternative to the house-to-house trick-or-treating tradition associated with Halloween. Adult volunteer witches and goblins will park their cars in a designated parking area\, pop the trunks of their decorated vehicles\, and hand out candy to costumed trick or treaters.</span></span><br />\n<br />\n<strong><span style="font-family:times new roman\,serif\;"><span style="font-size:12pt\;">Where do I take my kiddos to Trunk-or-Treat?</span></span></strong><span style="font-family:times new roman\,serif\;"><span style="font-size:12pt\;">&nbsp\;Trunk or-Treat vehicles will be waiting for trick-or-treaters in the POA parking area (next to the tennis courts where parents may park and escort their ghosts and goblins from car to car)\, the Magalia Baptist Church\, and the parking lot across from the Magalia Community Park Center.</span></span><br />\n<br />\n<strong><span style="font-family:times new roman\,serif\;"><span style="font-size:12pt\;">Volunteers Needed:</span></span></strong><span style="font-family:times new roman\,serif\;"><span style="font-size:12pt\;">&nbsp\;If you love Halloween and would like to join in the fun\, please show up at the POA parking lot between 3-3:30 pm to decorate your vehicle and hand out candy to trick or treaters. There&rsquo\;s plenty of space. You may register your vehicle by emailing&nbsp\;<a href="mailto:kathihiatt@att.net" style="color:rgb(17\, 85\, 204)\;" target="_blank">kathihiatt@att.net</a>.</span></span><br />\n&nbsp\;<br />\n<strong><span style="font-family:times new roman\,serif\;"><span style="font-size:12pt\;">There&#39\;s More spooky fun on Oct 29th</span></span></strong><span style="font-family:times new roman\,serif\;"><span style="font-size:12pt\;">&nbsp\;at the Halloween Carnival in the parking lot of Red Lion Pizza on the Skyway in Magalia.&nbsp\;</span></span><br />\n&nbsp\;
LOCATION:POA parking area
UID:e.2970.36748
SEQUENCE:3
DTSTAMP:20260423T120300Z
URL:https://business.paradisechamber.com/events/details/halloween-family-fun-36748
END:VEVENT

END:VCALENDAR
