BEGIN:VCALENDAR
VERSION:2.0
PRODID:-//ChamberMaster//Event Calendar 2.0//EN
METHOD:PUBLISH
X-PUBLISHED-TTL:P3D
REFRESH-INTERVAL:P3D
CALSCALE:GREGORIAN
BEGIN:VEVENT
DTSTART:20260425T200000Z
DTEND:20260426T000000Z
X-MICROSOFT-CDO-ALLDAYEVENT:FALSE
SUMMARY:Gold Nugget Days Paradise After Party
DESCRIPTION:Come celebrate the opening of our new showroom at 475 Pearson Road! Music\, food and libations will be available as well as a live blacksmith demonstration and an old timey kids shaving booth (fake wooden razor).
X-ALT-DESC;FMTTYPE=text/html:<span style="color: rgb(8\, 8\, 9)\; font-family: &quot\;Segoe UI Historic&quot\;\, &quot\;Segoe UI&quot\;\, Helvetica\, Arial\, sans-serif\; font-size: 15px\;">Come celebrate the opening of our new showroom at 475 Pearson Road! Music\, food and libations will be available as well as a live blacksmith demonstration and an old timey kids shaving booth (fake wooden razor).&nbsp\;</span>
LOCATION:Gold Nugget Museum
UID:e.2970.49340
SEQUENCE:3
DTSTAMP:20260424T090056Z
URL:https://business.paradisechamber.com/events/details/gold-nugget-days-paradise-after-party-49340
END:VEVENT

END:VCALENDAR
