BEGIN:VCALENDAR
VERSION:2.0
PRODID:-//ChamberMaster//Event Calendar 2.0//EN
METHOD:PUBLISH
X-PUBLISHED-TTL:P3D
REFRESH-INTERVAL:P3D
CALSCALE:GREGORIAN
BEGIN:VEVENT
DTSTART:20220924T170000Z
DTEND:20220924T183000Z
X-MICROSOFT-CDO-ALLDAYEVENT:FALSE
SUMMARY:Garden and Landscaping Class
DESCRIPTION:Kathleen Elliot from Mountain View landscape design and horticultural consultation offers a series of landscape and horticulture classes to make gardening easy and fun in Paradise.\n\n\n\nStarting with the Fall Series on September 10\, learn about planting fall bulbs and the best use of evergreen plants in your garden.\n\n\n\nOn October 8\, Kathleen will discuss native plans as well as the principles of sustainability for a healthy and beautiful garden.\n\n\n\nThe winter class on February 4 will feature pruning and caring for your deciduous trees and shrubs like roses\, Japanese maples\, fruit trees and vines to ready for the 2023 growing season.\n\n\n\nVisit Mountain View landscape design in paradisechamber.com's business directory:\n\nMountain View Landscape Design | Landscaping (paradisechamber.com)
X-ALT-DESC;FMTTYPE=text/html:<span style="color: rgb(34\, 34\, 34)\; font-family: Arial\, Helvetica\, sans-serif\; font-size: small\;">Kathleen Elliot from Mountain View landscape design and horticultural consultation offers a series of landscape and horticulture classes to make gardening easy and fun in Paradise.</span><br style="color: rgb(34\, 34\, 34)\; font-family: Arial\, Helvetica\, sans-serif\; font-size: small\;" />\n<br style="color: rgb(34\, 34\, 34)\; font-family: Arial\, Helvetica\, sans-serif\; font-size: small\;" />\n<span style="color: rgb(34\, 34\, 34)\; font-family: Arial\, Helvetica\, sans-serif\; font-size: small\;">Starting with the Fall Series on September 10\, learn about planting fall bulbs and the best use of evergreen plants in your garden.</span><br style="color: rgb(34\, 34\, 34)\; font-family: Arial\, Helvetica\, sans-serif\; font-size: small\;" />\n<br style="color: rgb(34\, 34\, 34)\; font-family: Arial\, Helvetica\, sans-serif\; font-size: small\;" />\n<span style="color: rgb(34\, 34\, 34)\; font-family: Arial\, Helvetica\, sans-serif\; font-size: small\;">On October 8\, Kathleen will discuss native plans as well as the principles of sustainability for a healthy and beautiful garden.</span><br style="color: rgb(34\, 34\, 34)\; font-family: Arial\, Helvetica\, sans-serif\; font-size: small\;" />\n<br style="color: rgb(34\, 34\, 34)\; font-family: Arial\, Helvetica\, sans-serif\; font-size: small\;" />\n<span style="color: rgb(34\, 34\, 34)\; font-family: Arial\, Helvetica\, sans-serif\; font-size: small\;">The winter class on February 4 will feature pruning and caring for your deciduous trees and shrubs like roses\, Japanese maples\, fruit trees and vines to ready for the 2023 growing season.</span><br style="color: rgb(34\, 34\, 34)\; font-family: Arial\, Helvetica\, sans-serif\; font-size: small\;" />\n<br style="color: rgb(34\, 34\, 34)\; font-family: Arial\, Helvetica\, sans-serif\; font-size: small\;" />\n<span style="color: rgb(34\, 34\, 34)\; font-family: Arial\, Helvetica\, sans-serif\; font-size: small\;">Visit Mountain View landscape design in&nbsp\;</span><a data-saferedirecturl="https://www.google.com/url?q=http://paradisechamber.com&amp\;source=gmail&amp\;ust=1662754466742000&amp\;usg=AOvVaw1_FMymF_FT3aER7SQI7Tir" href="http://paradisechamber.com/" rel="noreferrer" style="color: rgb(17\, 85\, 204)\; font-family: Arial\, Helvetica\, sans-serif\; font-size: small\;" target="_blank">paradisechamber.com</a><span style="color: rgb(34\, 34\, 34)\; font-family: Arial\, Helvetica\, sans-serif\; font-size: small\;">&rsquo\;s business directory:</span><br style="color: rgb(34\, 34\, 34)\; font-family: Arial\, Helvetica\, sans-serif\; font-size: small\;" />\n<span style="color: rgb(34\, 34\, 34)\; font-family: Arial\, Helvetica\, sans-serif\; font-size: small\;">Mountain View Landscape Design | Landscaping (</span><a data-saferedirecturl="https://www.google.com/url?q=http://paradisechamber.com&amp\;source=gmail&amp\;ust=1662754466742000&amp\;usg=AOvVaw1_FMymF_FT3aER7SQI7Tir" href="http://paradisechamber.com/" rel="noreferrer" style="color: rgb(17\, 85\, 204)\; font-family: Arial\, Helvetica\, sans-serif\; font-size: small\;" target="_blank">paradisechamber.com</a><span style="color: rgb(34\, 34\, 34)\; font-family: Arial\, Helvetica\, sans-serif\; font-size: small\;">)</span>
LOCATION:Terry Ashe Rec Center 6626 Skyway Paradise
UID:e.2970.36806
SEQUENCE:3
DTSTAMP:20260423T091428Z
URL:https://business.paradisechamber.com/events/details/garden-and-landscaping-class-36806
END:VEVENT

END:VCALENDAR
