BEGIN:VCALENDAR
VERSION:2.0
PRODID:-//ChamberMaster//Event Calendar 2.0//EN
METHOD:PUBLISH
X-PUBLISHED-TTL:P3D
REFRESH-INTERVAL:P3D
CALSCALE:GREGORIAN
BEGIN:VEVENT
DTSTART:20220917T010000Z
DTEND:20220917T033000Z
X-MICROSOFT-CDO-ALLDAYEVENT:FALSE
SUMMARY:Funky Friday Good Country Dinner Dance
DESCRIPTION:Bring your friends\, dress in your funky wear and join us for a three course dinner\, dancing to live music by Good Country\, fellowship\, and inspiration ...
X-ALT-DESC;FMTTYPE=text/html:Bring your friends\, dress in your funky wear and join us for a three course dinner\, dancing to live music by Good Country\, fellowship\, and inspiration ...
LOCATION:First Christian Church (intersection of Pearson and Pentz)
UID:e.2970.36801
SEQUENCE:3
DTSTAMP:20260423T104417Z
URL:https://business.paradisechamber.com/events/details/funky-friday-good-country-dinner-dance-36801
END:VEVENT

END:VCALENDAR
