BEGIN:VCALENDAR
VERSION:2.0
PRODID:-//ChamberMaster//Event Calendar 2.0//EN
METHOD:PUBLISH
X-PUBLISHED-TTL:P3D
REFRESH-INTERVAL:P3D
CALSCALE:GREGORIAN
BEGIN:VEVENT
DTSTART:20241205T163000Z
DTEND:20241205T193000Z
X-MICROSOFT-CDO-ALLDAYEVENT:FALSE
SUMMARY:Emotional and Social Intelligence
DESCRIPTION:Improve Relationships and Increase Productivity. An introduction to the principles of Emotional Intelligence (EQ). EQ is the ability to identify and understand your emotions and those of others to guide your behavior and manage relationships. Topics covered include the five competencies of Emotional Intelligence.
X-ALT-DESC;FMTTYPE=text/html:Improve Relationships and Increase Productivity. An introduction to the principles of Emotional Intelligence (EQ). EQ is the ability to identify and understand your emotions and those of others to guide your behavior and manage relationships. Topics covered include the five competencies of Emotional Intelligence.
LOCATION:The Training Place - Butte College Room 133
UID:e.2970.44544
SEQUENCE:3
DTSTAMP:20260425T195758Z
URL:https://business.paradisechamber.com/events/details/emotional-and-social-intelligence-12-05-2024-44544
END:VEVENT

END:VCALENDAR
