BEGIN:VCALENDAR
VERSION:2.0
PRODID:-//ChamberMaster//Event Calendar 2.0//EN
METHOD:PUBLISH
X-PUBLISHED-TTL:P3D
REFRESH-INTERVAL:P3D
CALSCALE:GREGORIAN
BEGIN:VEVENT
DTSTART:20221029T230000Z
DTEND:20221030T030000Z
X-MICROSOFT-CDO-ALLDAYEVENT:FALSE
SUMMARY:Eagles Trunk or Treat
DESCRIPTION:Come out and enjoys games\, candy and $2 Hotdogs
X-ALT-DESC;FMTTYPE=text/html:Come out and enjoys games\, candy and $2 Hotdogs
LOCATION:Paradise Eagles 2960
UID:e.2970.37563
SEQUENCE:3
DTSTAMP:20260423T103429Z
URL:https://business.paradisechamber.com/events/details/eagles-trunk-or-treat-37563
END:VEVENT

END:VCALENDAR
