BEGIN:VCALENDAR
VERSION:2.0
PRODID:-//ChamberMaster//Event Calendar 2.0//EN
METHOD:PUBLISH
X-PUBLISHED-TTL:P3D
REFRESH-INTERVAL:P3D
CALSCALE:GREGORIAN
BEGIN:VEVENT
DTSTART:20221022T150000Z
DTEND:20221022T230000Z
X-MICROSOFT-CDO-ALLDAYEVENT:FALSE
SUMMARY:DejaVu Nursery Fall Peddlers Fair
DESCRIPTION:SAVE THE DATE! Our 8th Semi-Annual PEDDLERS FAIR is Saturday\, OCTOBER 22\, 2022! 8am-4pm\n\nSuch a fun day and a great community and family event! \n\nA day full of fun featuring many vendors\, local artists\, hand crafted items and other fabulous finds\, handmade soaps\, candles\, Clothing\, Book Signing with Antoinette Peppler (Out of the Ashes)\, FOOD TRUCK (The Paddy Wagon)\, Specialty Beverages by The Beer Tap Shack\, spectacular and unique jewelry\, cutting boards\, candy\, BOUNCE HOUSE for the kiddos\, nursery stock sales\, yard art and so much more... \n\nA great VENUE to do your holiday shopping AND SUPPORT LOCAL vendors!\n\nIf you'd like to vend at our event\, please email us at plantpassion99@gmail.com and we will email you the application or call 530 877-7341.\n\nSee you soon at The Vu\n\n5424 Foster Road\, Paradise\, CA 95969
X-ALT-DESC;FMTTYPE=text/html:<div>SAVE THE DATE! Our 8th Semi-Annual PEDDLERS FAIR is Saturday\, OCTOBER 22\, 2022! 8am-4pm</div>\n\n<div>Such a fun day and a great community and family event!&nbsp\;</div>\n\n<div>A day full of fun featuring many vendors\, local artists\, hand crafted items and other fabulous finds\, handmade soaps\, candles\, Clothing\, Book Signing with Antoinette Peppler (Out of the Ashes)\, FOOD TRUCK (The Paddy Wagon)\, Specialty Beverages by The Beer Tap Shack\, spectacular and unique jewelry\, cutting boards\, candy\, BOUNCE HOUSE for the kiddos\, nursery stock sales\, yard art and so much more...&nbsp\;</div>\n\n<div>A great VENUE to do your holiday shopping AND SUPPORT LOCAL vendors!</div>\n\n<div>If you&#39\;d like to vend at our event\, please email us at plantpassion99@gmail.com and we will email you the application or call 530 877-7341.<br />\nSee you soon at The Vu<br />\n5424 Foster Road\, Paradise\, CA 95969</div>\n
LOCATION:5424 Foster Road\, Paradise\, CA 95969
UID:e.2970.36954
SEQUENCE:3
DTSTAMP:20260423T120352Z
URL:https://business.paradisechamber.com/events/details/dejavu-nursery-fall-peddlers-fair-36954
END:VEVENT

END:VCALENDAR
