BEGIN:VCALENDAR
VERSION:2.0
PRODID:-//ChamberMaster//Event Calendar 2.0//EN
METHOD:PUBLISH
X-PUBLISHED-TTL:P3D
REFRESH-INTERVAL:P3D
CALSCALE:GREGORIAN
BEGIN:VEVENT
DTSTART:20311003T013000Z
DTEND:20311003T023000Z
X-MICROSOFT-CDO-ALLDAYEVENT:FALSE
SUMMARY:DAV Monthly Meeting
DESCRIPTION:Monthly Meeting of Disabled American Veterans\, Paradise Chapter #106
X-ALT-DESC;FMTTYPE=text/html:Monthly Meeting of Disabled American Veterans\, Paradise Chapter #106
LOCATION:Paradise Memorial Veterans Hall
UID:e.2970.46858
SEQUENCE:3
DTSTAMP:20260422T180651Z
URL:https://business.paradisechamber.com/events/details/dav-monthly-meeting-10-02-2031-46858
END:VEVENT

END:VCALENDAR
