BEGIN:VCALENDAR
VERSION:2.0
PRODID:-//ChamberMaster//Event Calendar 2.0//EN
METHOD:PUBLISH
X-PUBLISHED-TTL:P3D
REFRESH-INTERVAL:P3D
CALSCALE:GREGORIAN
BEGIN:VEVENT
DTSTART:20240210T023000Z
DTEND:20240210T033000Z
X-MICROSOFT-CDO-ALLDAYEVENT:FALSE
SUMMARY:Dance Class: Night Club Two Step
DESCRIPTION:Learn to do the Night Club Two Step. We can take your two left feet and teach you how not to step on your partner's toes. After 6 weeks you will be able to do 10-14 moves consistently to music and making your partner smile. This dance can be done to most rock and roll and also country tunes. Sign up as a Couple or Single We rotate partners regularly throughout the class.
X-ALT-DESC;FMTTYPE=text/html:Learn to do the Night Club Two Step. We can take your two left feet and teach you how not to step on your partner&#39\;s toes. After 6 weeks you will be able to do 10-14 moves consistently to music and making your partner smile. This dance can be done to most rock and roll and also country tunes. Sign up as a Couple or Single We rotate partners regularly throughout the class.
LOCATION:Paradise Stronger
UID:e.2970.42595
SEQUENCE:3
DTSTAMP:20260423T233531Z
URL:https://business.paradisechamber.com/events/details/dance-class-night-club-two-step-02-09-2024-42595
END:VEVENT

END:VCALENDAR
