BEGIN:VCALENDAR
VERSION:2.0
PRODID:-//ChamberMaster//Event Calendar 2.0//EN
METHOD:PUBLISH
X-PUBLISHED-TTL:P3D
REFRESH-INTERVAL:P3D
CALSCALE:GREGORIAN
BEGIN:VEVENT
DTSTART:20241207T190000Z
DTEND:20241207T210000Z
X-MICROSOFT-CDO-ALLDAYEVENT:FALSE
SUMMARY:Cookie Decorating Activity
DESCRIPTION:We provide the supplies !!! You bring the creativity !!!
X-ALT-DESC;FMTTYPE=text/html:We provide the supplies !!! You bring the creativity !!!
LOCATION:First Christian Church\, Paradise (intersection of Pearson and Penta Rds.)
UID:e.2970.46728
SEQUENCE:3
DTSTAMP:20260426T002637Z
URL:https://business.paradisechamber.com/events/details/cookie-decorating-activity-46728
END:VEVENT

END:VCALENDAR
