BEGIN:VCALENDAR
VERSION:2.0
PRODID:-//ChamberMaster//Event Calendar 2.0//EN
METHOD:PUBLISH
X-PUBLISHED-TTL:P3D
REFRESH-INTERVAL:P3D
CALSCALE:GREGORIAN
BEGIN:VEVENT
DTSTART:20240624T153000Z
DTEND:20240624T233000Z
X-MICROSOFT-CDO-ALLDAYEVENT:FALSE
SUMMARY:CONSTRUCTION SKILLS - Methods/Scoping/Carpentry
DESCRIPTION:Focused on Construction Methods for scoping and planning a project. Finish carpentry exercise may include fence/gate or window/door framing. Please email thetrainingplace@butte.edu directly if interested in this FREE (Grant-Funded) training for upskilling local building/construction workforce!
X-ALT-DESC;FMTTYPE=text/html:Focused on Construction Methods for scoping and planning a project. Finish carpentry exercise may include fence/gate or window/door framing. Please email thetrainingplace@butte.edu directly if interested in this FREE (Grant-Funded) training for upskilling local building/construction workforce!
LOCATION:Butte College Glenn Center
UID:e.2970.44636
SEQUENCE:3
DTSTAMP:20260423T160702Z
URL:https://business.paradisechamber.com/events/details/construction-skills-methods-scoping-carpentry-44636
END:VEVENT

END:VCALENDAR
