BEGIN:VCALENDAR
VERSION:2.0
PRODID:-//ChamberMaster//Event Calendar 2.0//EN
METHOD:PUBLISH
X-PUBLISHED-TTL:P3D
REFRESH-INTERVAL:P3D
CALSCALE:GREGORIAN
BEGIN:VEVENT
DTSTART:20240605T153000Z
DTEND:20240605T233000Z
X-MICROSOFT-CDO-ALLDAYEVENT:FALSE
SUMMARY:Construction Skills - Concrete
DESCRIPTION:Grant-funded workshop to learn how to scope/prep/pour a concrete foundation (near Parking Lot4). Please email thetrainingplace@butte.edu directly!
X-ALT-DESC;FMTTYPE=text/html:Grant-funded workshop to learn how to scope/prep/pour a concrete foundation (near Parking Lot4). Please email thetrainingplace@butte.edu directly!
LOCATION:
UID:e.2970.44635
SEQUENCE:3
DTSTAMP:20260423T160650Z
URL:https://business.paradisechamber.com/events/details/construction-skills-concrete-44635
END:VEVENT

END:VCALENDAR
