BEGIN:VCALENDAR
VERSION:2.0
PRODID:-//ChamberMaster//Event Calendar 2.0//EN
METHOD:PUBLISH
X-PUBLISHED-TTL:P3D
REFRESH-INTERVAL:P3D
CALSCALE:GREGORIAN
BEGIN:VEVENT
DTSTART:20230817T003000Z
DTEND:20230817T030000Z
X-MICROSOFT-CDO-ALLDAYEVENT:FALSE
SUMMARY:Congressional Update: LaMalfa Town Hall
DESCRIPTION:Congressman LaMalfa Cordially Invites You to Attend his Townhall!\n\n\n\nLocation: Durham Veterans Memorial Hall \n\nYou are cordially invited to attend Congressman LaMalfa's upcoming Town Hall. Please join us for a Congressional Update in your community. For questions\, call our District Office at 530-343-1000.
X-ALT-DESC;FMTTYPE=text/html:<div class="page" style="caret-color: rgb(0\, 0\, 0)\; color: rgb(0\, 0\, 0)\;" title="Page 1">\n<div class="layoutArea">\n<div class="column">\n<p><span style="font-family:arial\;"><span style="font-size:14px\;"><span style="font-weight: 700\;">Congressman LaMalfa Cordially Invites You to Attend his Townhall!</span><br />\n<br />\n<span style="font-weight: 700\;">Location</span>: Durham Veterans Memorial Hall&nbsp\;</span></span></p>\n\n<p><span style="font-family:arial\;"><span style="font-size:14px\;">You are cordially invited to attend Congressman&nbsp\;LaMalfa&rsquo\;s&nbsp\;upcoming Town Hall. Please join us for a Congressional Update in your community. For questions\, call our District Office at 530-343-1000.</span></span></p>\n</div>\n</div>\n</div>\n
LOCATION:
UID:e.2970.41661
SEQUENCE:3
DTSTAMP:20260423T143840Z
URL:https://business.paradisechamber.com/events/details/congressional-update-lamalfa-town-hall-41661
END:VEVENT

END:VCALENDAR
